BEGIN:VCALENDAR
VERSION:2.0
PRODID:-//Plone.org//NONSGML plone.app.event//EN
X-WR-TIMEZONE:Europe/Madrid
BEGIN:VEVENT
SUMMARY:Comisión Ejecutiva Consorcio Besòs Tordera
DTSTART;TZID=Europe/Madrid;VALUE=DATE-TIME:20240102T091500
DTEND;TZID=Europe/Madrid;VALUE=DATE-TIME:20240102T094500
DTSTAMP;VALUE=DATE-TIME:20260421T135912Z
UID:506f4b6fd51b410b9263d31203d6ac87@www.molletvalles.cat
CREATED;VALUE=DATE-TIME:20231221T141032Z
LAST-MODIFIED;VALUE=DATE-TIME:20231221T141036Z
LOCATION:Telemático
URL:https://www.molletvalles.cat/es/el-ayuntamiento/la-alcaldesa/agenda/co
 mision-ejecutiva-consorcio-besos-tordera
END:VEVENT
BEGIN:VTIMEZONE
TZID:Europe/Madrid
X-LIC-LOCATION:Europe/Madrid
BEGIN:STANDARD
DTSTART;VALUE=DATE-TIME:20231029T020000
TZNAME:CET
TZOFFSETFROM:+0200
TZOFFSETTO:+0100
END:STANDARD
END:VTIMEZONE
END:VCALENDAR
