BEGIN:VCALENDAR
VERSION:2.0
PRODID:-//Plone.org//NONSGML plone.app.event//EN
X-WR-TIMEZONE:Europe/Madrid
BEGIN:VEVENT
SUMMARY:Concierto de alumnos de piano
DTSTART;TZID=Europe/Madrid;VALUE=DATE-TIME:20230503T180000
DTEND;TZID=Europe/Madrid;VALUE=DATE-TIME:20230503T190000
DTSTAMP;VALUE=DATE-TIME:20260421T114350Z
UID:9dc62cd04b9a4ac2973688d71c9b0cfd@www.molletvalles.cat
CREATED;VALUE=DATE-TIME:20230503T115115Z
LAST-MODIFIED;VALUE=DATE-TIME:20230503T115118Z
LOCATION:Hospital de Mollet - Org. Escuela Municipal de Música
URL:https://www.molletvalles.cat/es/el-ayuntamiento/la-alcaldesa/agenda/co
 ncierto-de-alumnos-de-piano
END:VEVENT
BEGIN:VTIMEZONE
TZID:Europe/Madrid
X-LIC-LOCATION:Europe/Madrid
BEGIN:DAYLIGHT
DTSTART;VALUE=DATE-TIME:20230326T030000
TZNAME:CEST
TZOFFSETFROM:+0100
TZOFFSETTO:+0200
END:DAYLIGHT
END:VTIMEZONE
END:VCALENDAR
