BEGIN:VCALENDAR
VERSION:2.0
PRODID:-//Plone.org//NONSGML plone.app.event//EN
X-WR-TIMEZONE:Europe/Madrid
BEGIN:VEVENT
SUMMARY:Concierto de gospel. Sons de Nadal a l'arbre
DTSTART;TZID=Europe/Madrid;VALUE=DATE-TIME:20221229T190000
DTEND;TZID=Europe/Madrid;VALUE=DATE-TIME:20221229T200000
DTSTAMP;VALUE=DATE-TIME:20260421T160352Z
UID:eeec6e67404345e7877f90f4e58af5ba@www.molletvalles.cat
CREATED;VALUE=DATE-TIME:20230127T132202Z
LAST-MODIFIED;VALUE=DATE-TIME:20230127T132204Z
LOCATION:Rambla Fiveller i Rambla Balmes
URL:https://www.molletvalles.cat/es/el-ayuntamiento/la-alcaldesa/agenda/co
 ncierto-de-gospel-sons-de-nadal-a-larbre
END:VEVENT
BEGIN:VTIMEZONE
TZID:Europe/Madrid
X-LIC-LOCATION:Europe/Madrid
BEGIN:STANDARD
DTSTART;VALUE=DATE-TIME:20221030T020000
TZNAME:CET
TZOFFSETFROM:+0200
TZOFFSETTO:+0100
END:STANDARD
END:VTIMEZONE
END:VCALENDAR
