BEGIN:VCALENDAR
VERSION:2.0
PRODID:-//Plone.org//NONSGML plone.app.event//EN
X-WR-TIMEZONE:Europe/Madrid
BEGIN:VEVENT
SUMMARY:Concierto de Navidad\, a cargo de la Orquesta Sinfónica y Corazon
 es de la EMMD
DTSTART;TZID=Europe/Madrid;VALUE=DATE-TIME:20231215T210000
DTEND;TZID=Europe/Madrid;VALUE=DATE-TIME:20231215T220000
DTSTAMP;VALUE=DATE-TIME:20260425T121744Z
UID:c1c1a9a7232142438a42e9e29cd9311b@www.molletvalles.cat
CREATED;VALUE=DATE-TIME:20231215T130948Z
LAST-MODIFIED;VALUE=DATE-TIME:20231215T130951Z
LOCATION:Iglesia de Sant Vicenç
URL:https://www.molletvalles.cat/es/el-ayuntamiento/la-alcaldesa/agenda/co
 ncierto-de-navidad-a-cargo-de-la-orquesta-sinfonica-y-corazones-de-la-emmd
END:VEVENT
BEGIN:VTIMEZONE
TZID:Europe/Madrid
X-LIC-LOCATION:Europe/Madrid
BEGIN:STANDARD
DTSTART;VALUE=DATE-TIME:20231029T020000
TZNAME:CET
TZOFFSETFROM:+0200
TZOFFSETTO:+0100
END:STANDARD
END:VTIMEZONE
END:VCALENDAR
