BEGIN:VCALENDAR
VERSION:2.0
PRODID:-//Plone.org//NONSGML plone.app.event//EN
X-WR-TIMEZONE:Europe/Madrid
BEGIN:VEVENT
SUMMARY:Concierto de Sardanas con la Cobla Jovenívola de Sabadell
DTSTART;TZID=Europe/Madrid;VALUE=DATE-TIME:20240818T180000
DTEND;TZID=Europe/Madrid;VALUE=DATE-TIME:20240818T190000
DTSTAMP;VALUE=DATE-TIME:20260421T160446Z
UID:12583062085f4cec8190664c990ecef5@www.molletvalles.cat
CREATED;VALUE=DATE-TIME:20240816T110044Z
LAST-MODIFIED;VALUE=DATE-TIME:20240816T110201Z
LOCATION:Carpa
URL:https://www.molletvalles.cat/es/el-ayuntamiento/la-alcaldesa/agenda/co
 ncierto-de-sardanas-con-la-cobla-jovenivola-de-sabadell
END:VEVENT
BEGIN:VTIMEZONE
TZID:Europe/Madrid
X-LIC-LOCATION:Europe/Madrid
BEGIN:DAYLIGHT
DTSTART;VALUE=DATE-TIME:20240331T030000
TZNAME:CEST
TZOFFSETFROM:+0100
TZOFFSETTO:+0200
END:DAYLIGHT
END:VTIMEZONE
END:VCALENDAR
