BEGIN:VCALENDAR
VERSION:2.0
PRODID:-//Plone.org//NONSGML plone.app.event//EN
X-WR-TIMEZONE:Europe/Madrid
BEGIN:VEVENT
SUMMARY:Concierto Santa Cecília - Asociación Musical Pau Casals
DTSTART;TZID=Europe/Madrid;VALUE=DATE-TIME:20221126T180000
DTEND;TZID=Europe/Madrid;VALUE=DATE-TIME:20221126T190000
DTSTAMP;VALUE=DATE-TIME:20260419T162329Z
UID:6a7bbda5c6e244f3a8cc82743cb8bd44@www.molletvalles.cat
CREATED;VALUE=DATE-TIME:20230130T120757Z
LAST-MODIFIED;VALUE=DATE-TIME:20230130T120803Z
LOCATION:Teatro de Can Gomà
URL:https://www.molletvalles.cat/es/el-ayuntamiento/la-alcaldesa/agenda/co
 ncierto-santa-cecilia-asociacion-musical-pau-casals
END:VEVENT
BEGIN:VTIMEZONE
TZID:Europe/Madrid
X-LIC-LOCATION:Europe/Madrid
BEGIN:STANDARD
DTSTART;VALUE=DATE-TIME:20221030T020000
TZNAME:CET
TZOFFSETFROM:+0200
TZOFFSETTO:+0100
END:STANDARD
END:VTIMEZONE
END:VCALENDAR
