BEGIN:VCALENDAR
VERSION:2.0
PRODID:-//Plone.org//NONSGML plone.app.event//EN
X-WR-TIMEZONE:Europe/Madrid
BEGIN:VEVENT
SUMMARY:Consejo de los Niños - encargo alcaldesa
DTSTART;TZID=Europe/Madrid;VALUE=DATE-TIME:20221212T110000
DTEND;TZID=Europe/Madrid;VALUE=DATE-TIME:20221212T123000
DTSTAMP;VALUE=DATE-TIME:20260419T165552Z
UID:a50b3f2e29ae49959c2641732a477129@www.molletvalles.cat
CREATED;VALUE=DATE-TIME:20230130T104356Z
LAST-MODIFIED;VALUE=DATE-TIME:20230130T104358Z
LOCATION:Ayuntamiento de Mollet del Vallès
URL:https://www.molletvalles.cat/es/el-ayuntamiento/la-alcaldesa/agenda/co
 nsejo-de-los-ninos-encargo-alcaldesa
END:VEVENT
BEGIN:VTIMEZONE
TZID:Europe/Madrid
X-LIC-LOCATION:Europe/Madrid
BEGIN:STANDARD
DTSTART;VALUE=DATE-TIME:20221030T020000
TZNAME:CET
TZOFFSETFROM:+0200
TZOFFSETTO:+0100
END:STANDARD
END:VTIMEZONE
END:VCALENDAR
