BEGIN:VCALENDAR
VERSION:2.0
PRODID:-//Plone.org//NONSGML plone.app.event//EN
X-WR-TIMEZONE:Europe/Madrid
BEGIN:VEVENT
SUMMARY:Consejo Plenario del Consorcio del Parque del Espacio de Interés 
 Natural de Gallecs
DTSTART;TZID=Europe/Madrid;VALUE=DATE-TIME:20241212T170000
DTEND;TZID=Europe/Madrid;VALUE=DATE-TIME:20241212T180000
DTSTAMP;VALUE=DATE-TIME:20260421T160447Z
UID:727b99dfb7d740d2b0f624cb71f2f064@www.molletvalles.cat
CREATED;VALUE=DATE-TIME:20241216T145804Z
LAST-MODIFIED;VALUE=DATE-TIME:20241216T145807Z
LOCATION:Telemático
URL:https://www.molletvalles.cat/es/el-ayuntamiento/la-alcaldesa/agenda/co
 nsejo-plenario-del-consorcio-del-parque-del-espacio-de-interes-natural-de-
 gallecs
END:VEVENT
BEGIN:VTIMEZONE
TZID:Europe/Madrid
X-LIC-LOCATION:Europe/Madrid
BEGIN:STANDARD
DTSTART;VALUE=DATE-TIME:20241027T020000
TZNAME:CET
TZOFFSETFROM:+0200
TZOFFSETTO:+0100
END:STANDARD
END:VTIMEZONE
END:VCALENDAR
