BEGIN:VCALENDAR
VERSION:2.0
PRODID:-//Plone.org//NONSGML plone.app.event//EN
X-WR-TIMEZONE:Europe/Madrid
BEGIN:VEVENT
SUMMARY:Corte de Cinta - XXV Carrera Sant Vicenç y 14º Memorial Jordi So
 lé Tura
DTSTART;TZID=Europe/Madrid;VALUE=DATE-TIME:20240121T103000
DTEND;TZID=Europe/Madrid;VALUE=DATE-TIME:20240121T113000
DTSTAMP;VALUE=DATE-TIME:20260419T162528Z
UID:70d6026c92954653a065c9d9231ce6ae@www.molletvalles.cat
CREATED;VALUE=DATE-TIME:20240117T145114Z
LAST-MODIFIED;VALUE=DATE-TIME:20240117T145220Z
LOCATION:Av. del Parc
URL:https://www.molletvalles.cat/es/el-ayuntamiento/la-alcaldesa/agenda/co
 rte-de-cinta-xxv-carrera-sant-vicenc-y-14o-memorial-jordi-sole-tura
END:VEVENT
BEGIN:VTIMEZONE
TZID:Europe/Madrid
X-LIC-LOCATION:Europe/Madrid
BEGIN:STANDARD
DTSTART;VALUE=DATE-TIME:20231029T020000
TZNAME:CET
TZOFFSETFROM:+0200
TZOFFSETTO:+0100
END:STANDARD
END:VTIMEZONE
END:VCALENDAR
