BEGIN:VCALENDAR
VERSION:2.0
PRODID:-//Plone.org//NONSGML plone.app.event//EN
X-WR-TIMEZONE:Europe/Madrid
BEGIN:VEVENT
SUMMARY:Día del Socio - Asociación de Personas Mayores de EspaiCaixa
DTSTART;TZID=Europe/Madrid;VALUE=DATE-TIME:20240614T180000
DTEND;TZID=Europe/Madrid;VALUE=DATE-TIME:20240614T190000
DTSTAMP;VALUE=DATE-TIME:20260419T162342Z
UID:baa24d609e184f238b7f035da07489c7@www.molletvalles.cat
CREATED;VALUE=DATE-TIME:20240620T114230Z
LAST-MODIFIED;VALUE=DATE-TIME:20240620T114903Z
LOCATION:CC Mercat Vell
URL:https://www.molletvalles.cat/es/el-ayuntamiento/la-alcaldesa/agenda/di
 a-del-socio-asociacion-de-personas-mayores-de-espaicaixa
END:VEVENT
BEGIN:VTIMEZONE
TZID:Europe/Madrid
X-LIC-LOCATION:Europe/Madrid
BEGIN:DAYLIGHT
DTSTART;VALUE=DATE-TIME:20240331T030000
TZNAME:CEST
TZOFFSETFROM:+0100
TZOFFSETTO:+0200
END:DAYLIGHT
END:VTIMEZONE
END:VCALENDAR
