BEGIN:VCALENDAR
VERSION:2.0
PRODID:-//Plone.org//NONSGML plone.app.event//EN
X-WR-TIMEZONE:Europe/Madrid
BEGIN:VEVENT
SUMMARY:Diada d’Espiadimonis
DTSTART;TZID=Europe/Madrid;VALUE=DATE-TIME:20250426T213000
DTEND;TZID=Europe/Madrid;VALUE=DATE-TIME:20250426T230000
DTSTAMP;VALUE=DATE-TIME:20260423T122934Z
UID:8a0c75f77df844d3aebd5402bfc0cce9@www.molletvalles.cat
CREATED;VALUE=DATE-TIME:20250425T103420Z
LAST-MODIFIED;VALUE=DATE-TIME:20250425T103425Z
LOCATION:Mollet del Vallès
URL:https://www.molletvalles.cat/es/el-ayuntamiento/la-alcaldesa/agenda/di
 ada-d2019espiadimonis
END:VEVENT
BEGIN:VTIMEZONE
TZID:Europe/Madrid
X-LIC-LOCATION:Europe/Madrid
BEGIN:DAYLIGHT
DTSTART;VALUE=DATE-TIME:20250330T030000
TZNAME:CEST
TZOFFSETFROM:+0100
TZOFFSETTO:+0200
END:DAYLIGHT
END:VTIMEZONE
END:VCALENDAR
