BEGIN:VCALENDAR
VERSION:2.0
PRODID:-//Plone.org//NONSGML plone.app.event//EN
X-WR-TIMEZONE:Europe/Madrid
BEGIN:VEVENT
SUMMARY:Encendido de la hoguera con el Baile de Diablos
DTSTART;TZID=Europe/Madrid;VALUE=DATE-TIME:20240621T140000
DTEND;TZID=Europe/Madrid;VALUE=DATE-TIME:20240621T150000
DTSTAMP;VALUE=DATE-TIME:20260421T140508Z
UID:f85ec10c638d4fdc8c7d6465925b58d5@www.molletvalles.cat
CREATED;VALUE=DATE-TIME:20240621T125105Z
LAST-MODIFIED;VALUE=DATE-TIME:20240621T125108Z
URL:https://www.molletvalles.cat/es/el-ayuntamiento/la-alcaldesa/agenda/en
 cendido-de-la-hoguera-con-el-baile-de-diablos
END:VEVENT
BEGIN:VTIMEZONE
TZID:Europe/Madrid
X-LIC-LOCATION:Europe/Madrid
BEGIN:DAYLIGHT
DTSTART;VALUE=DATE-TIME:20240331T030000
TZNAME:CEST
TZOFFSETFROM:+0100
TZOFFSETTO:+0200
END:DAYLIGHT
END:VTIMEZONE
END:VCALENDAR
