BEGIN:VCALENDAR
VERSION:2.0
PRODID:-//Plone.org//NONSGML plone.app.event//EN
X-WR-TIMEZONE:Europe/Madrid
BEGIN:VEVENT
SUMMARY:Encuentro con entidad deportiva
DTSTART;TZID=Europe/Madrid;VALUE=DATE-TIME:20231204T183000
DTEND;TZID=Europe/Madrid;VALUE=DATE-TIME:20231204T193000
DTSTAMP;VALUE=DATE-TIME:20260425T121746Z
UID:a1a8b989b8e54d65abd2f8faa35ba255@www.molletvalles.cat
CREATED;VALUE=DATE-TIME:20231211T134738Z
LAST-MODIFIED;VALUE=DATE-TIME:20231211T134742Z
LOCATION:Ayuntamiento de Mollet del Vallès
URL:https://www.molletvalles.cat/es/el-ayuntamiento/la-alcaldesa/agenda/en
 cuentro-con-entidad-deportiva
END:VEVENT
BEGIN:VTIMEZONE
TZID:Europe/Madrid
X-LIC-LOCATION:Europe/Madrid
BEGIN:STANDARD
DTSTART;VALUE=DATE-TIME:20231029T020000
TZNAME:CET
TZOFFSETFROM:+0200
TZOFFSETTO:+0100
END:STANDARD
END:VTIMEZONE
END:VCALENDAR
