BEGIN:VCALENDAR
VERSION:2.0
PRODID:-//Plone.org//NONSGML plone.app.event//EN
X-WR-TIMEZONE:Europe/Madrid
BEGIN:VEVENT
SUMMARY:Entrega de trofeos Lliga Escolar Open Ajedrez
DTSTART;TZID=Europe/Madrid;VALUE=DATE-TIME:20220611T133000
DTEND;TZID=Europe/Madrid;VALUE=DATE-TIME:20220611T140000
DTSTAMP;VALUE=DATE-TIME:20260419T165158Z
UID:1263b1c7824844be84605dc745f7c840@www.molletvalles.cat
CREATED;VALUE=DATE-TIME:20230125T105754Z
LAST-MODIFIED;VALUE=DATE-TIME:20230125T105932Z
LOCATION:CC Mercat Vell
URL:https://www.molletvalles.cat/es/el-ayuntamiento/la-alcaldesa/agenda/en
 trega-de-trofeus-lliga-escolar-open-escacs
END:VEVENT
BEGIN:VTIMEZONE
TZID:Europe/Madrid
X-LIC-LOCATION:Europe/Madrid
BEGIN:DAYLIGHT
DTSTART;VALUE=DATE-TIME:20220327T030000
TZNAME:CEST
TZOFFSETFROM:+0100
TZOFFSETTO:+0200
END:DAYLIGHT
END:VTIMEZONE
END:VCALENDAR
