BEGIN:VCALENDAR
VERSION:2.0
PRODID:-//Plone.org//NONSGML plone.app.event//EN
X-WR-TIMEZONE:Europe/Madrid
BEGIN:VEVENT
SUMMARY:Festival Solidario DANA
DTSTART;TZID=Europe/Madrid;VALUE=DATE-TIME:20241117T110000
DTEND;TZID=Europe/Madrid;VALUE=DATE-TIME:20241117T120000
DTSTAMP;VALUE=DATE-TIME:20260425T135321Z
UID:751ee9c391b147a3adc62f0e7f5509bb@www.molletvalles.cat
CREATED;VALUE=DATE-TIME:20241115T142021Z
LAST-MODIFIED;VALUE=DATE-TIME:20241115T142024Z
LOCATION:Parque de Les Pruneres
URL:https://www.molletvalles.cat/es/el-ayuntamiento/la-alcaldesa/agenda/fe
 stival-solidario-dana
END:VEVENT
BEGIN:VTIMEZONE
TZID:Europe/Madrid
X-LIC-LOCATION:Europe/Madrid
BEGIN:STANDARD
DTSTART;VALUE=DATE-TIME:20241027T020000
TZNAME:CET
TZOFFSETFROM:+0200
TZOFFSETTO:+0100
END:STANDARD
END:VTIMEZONE
END:VCALENDAR
