BEGIN:VCALENDAR
VERSION:2.0
PRODID:-//Plone.org//NONSGML plone.app.event//EN
X-WR-TIMEZONE:Europe/Madrid
BEGIN:VEVENT
SUMMARY:Fiesta Clausura 25 años CO del Bosc
DTSTART;TZID=Europe/Madrid;VALUE=DATE-TIME:20240614T170000
DTEND;TZID=Europe/Madrid;VALUE=DATE-TIME:20240614T180000
DTSTAMP;VALUE=DATE-TIME:20260421T160448Z
UID:4bdbc6ea4e95408d8359f890e24efb76@www.molletvalles.cat
CREATED;VALUE=DATE-TIME:20240620T113710Z
LAST-MODIFIED;VALUE=DATE-TIME:20240620T113714Z
LOCATION:CO El Bosc
URL:https://www.molletvalles.cat/es/el-ayuntamiento/la-alcaldesa/agenda/fi
 esta-clausura-25-anos-co-del-bosc
END:VEVENT
BEGIN:VTIMEZONE
TZID:Europe/Madrid
X-LIC-LOCATION:Europe/Madrid
BEGIN:DAYLIGHT
DTSTART;VALUE=DATE-TIME:20240331T030000
TZNAME:CEST
TZOFFSETFROM:+0100
TZOFFSETTO:+0200
END:DAYLIGHT
END:VTIMEZONE
END:VCALENDAR
