BEGIN:VCALENDAR
VERSION:2.0
PRODID:-//Plone.org//NONSGML plone.app.event//EN
X-WR-TIMEZONE:Europe/Madrid
BEGIN:VEVENT
SUMMARY:Fiesta del Barrio de Lourdes - Todo el día
DTSTART;TZID=Europe/Madrid;VALUE=DATE-TIME:20220624T203000
DTEND;TZID=Europe/Madrid;VALUE=DATE-TIME:20220624T213000
DTSTAMP;VALUE=DATE-TIME:20260425T121854Z
UID:8b4e50e2667c4a1db145a7b32902147a@www.molletvalles.cat
CREATED;VALUE=DATE-TIME:20230203T135411Z
LAST-MODIFIED;VALUE=DATE-TIME:20230203T135422Z
LOCATION:Barrio de Lourdes
URL:https://www.molletvalles.cat/es/el-ayuntamiento/la-alcaldesa/agenda/fi
 esta-del-barrio-de-lourdes-todo-el-dia
END:VEVENT
BEGIN:VTIMEZONE
TZID:Europe/Madrid
X-LIC-LOCATION:Europe/Madrid
BEGIN:DAYLIGHT
DTSTART;VALUE=DATE-TIME:20220327T030000
TZNAME:CEST
TZOFFSETFROM:+0100
TZOFFSETTO:+0200
END:DAYLIGHT
END:VTIMEZONE
END:VCALENDAR
