BEGIN:VCALENDAR
VERSION:2.0
PRODID:-//Plone.org//NONSGML plone.app.event//EN
X-WR-TIMEZONE:Europe/Madrid
BEGIN:VEVENT
SUMMARY:Fiesta del socio Club Petanca Altaveu
DTSTART;TZID=Europe/Madrid;VALUE=DATE-TIME:20240601T140000
DTEND;TZID=Europe/Madrid;VALUE=DATE-TIME:20240601T150000
DTSTAMP;VALUE=DATE-TIME:20260419T161638Z
UID:3c1c5b35a6794efebd18893535d6aa69@www.molletvalles.cat
CREATED;VALUE=DATE-TIME:20240603T094747Z
LAST-MODIFIED;VALUE=DATE-TIME:20240603T094758Z
LOCATION:Club Petanca Altavoz
URL:https://www.molletvalles.cat/es/el-ayuntamiento/la-alcaldesa/agenda/fi
 esta-del-socio-club-petanca-altaveu
END:VEVENT
BEGIN:VTIMEZONE
TZID:Europe/Madrid
X-LIC-LOCATION:Europe/Madrid
BEGIN:DAYLIGHT
DTSTART;VALUE=DATE-TIME:20240331T030000
TZNAME:CEST
TZOFFSETFROM:+0100
TZOFFSETTO:+0200
END:DAYLIGHT
END:VTIMEZONE
END:VCALENDAR
