BEGIN:VCALENDAR
VERSION:2.0
PRODID:-//Plone.org//NONSGML plone.app.event//EN
X-WR-TIMEZONE:Europe/Madrid
BEGIN:VEVENT
SUMMARY:Fiesta Mayor de la Escuela Joan Salvat Papasseit
DTSTART;TZID=Europe/Madrid;VALUE=DATE-TIME:20240613T093000
DTEND;TZID=Europe/Madrid;VALUE=DATE-TIME:20240613T103000
DTSTAMP;VALUE=DATE-TIME:20260425T121739Z
UID:cac0e4a4973d431cb6b68da820c0a043@www.molletvalles.cat
CREATED;VALUE=DATE-TIME:20240620T112725Z
LAST-MODIFIED;VALUE=DATE-TIME:20240620T112728Z
LOCATION:Escuela Joan Salvat Papasseit
URL:https://www.molletvalles.cat/es/el-ayuntamiento/la-alcaldesa/agenda/fi
 esta-mayor-de-la-escuela-joan-salvat-papasseit
END:VEVENT
BEGIN:VTIMEZONE
TZID:Europe/Madrid
X-LIC-LOCATION:Europe/Madrid
BEGIN:DAYLIGHT
DTSTART;VALUE=DATE-TIME:20240331T030000
TZNAME:CEST
TZOFFSETFROM:+0100
TZOFFSETTO:+0200
END:DAYLIGHT
END:VTIMEZONE
END:VCALENDAR
