BEGIN:VCALENDAR
VERSION:2.0
PRODID:-//Plone.org//NONSGML plone.app.event//EN
X-WR-TIMEZONE:Europe/Madrid
BEGIN:VEVENT
SUMMARY:Fil directe amb l'Alcaldessa
DTSTART;TZID=Europe/Madrid;VALUE=DATE-TIME:20230327T140000
DTSTAMP;VALUE=DATE-TIME:20260422T182757Z
UID:cce9494c3e5b41eca0ae2a7006135920@www.molletvalles.cat
CREATED;VALUE=DATE-TIME:20230118T134648Z
DESCRIPTION:La alcaldesa responde en directo las consultas de los oyentes 
 desde el estudio de Ràdio Mollet. La ciudadanía puede ser protagonista d
 irigiendo su pregunta en directo en el teléfono 93 570 68 66\, en horario
  de emisión el lunes\, dos veces al mes.
LAST-MODIFIED;VALUE=DATE-TIME:20230118T171049Z
URL:https://www.molletvalles.cat/es/el-ayuntamiento/la-alcaldesa/agenda/fi
 l-directe-amb-lalcaldessa/2023-03-27
END:VEVENT
BEGIN:VTIMEZONE
TZID:Europe/Madrid
X-LIC-LOCATION:Europe/Madrid
BEGIN:DAYLIGHT
DTSTART;VALUE=DATE-TIME:20230326T030000
TZNAME:CEST
TZOFFSETFROM:+0100
TZOFFSETTO:+0200
END:DAYLIGHT
END:VTIMEZONE
END:VCALENDAR
