BEGIN:VCALENDAR
VERSION:2.0
PRODID:-//Plone.org//NONSGML plone.app.event//EN
X-WR-TIMEZONE:Europe/Madrid
BEGIN:VEVENT
SUMMARY:Fil Directe con la Alcaldesa
DTSTART;TZID=Europe/Madrid;VALUE=DATE-TIME:20260427T140000
DTEND;TZID=Europe/Madrid;VALUE=DATE-TIME:20260427T143000
DTSTAMP;VALUE=DATE-TIME:20260423T173106Z
UID:8b2834cf364442db8ed51644a566b38d@www.molletvalles.cat
CREATED;VALUE=DATE-TIME:20260423T082305Z
LAST-MODIFIED;VALUE=DATE-TIME:20260423T082311Z
LOCATION:Ayuntamiento Mollet del Vallès
URL:https://www.molletvalles.cat/es/el-ayuntamiento/la-alcaldesa/agenda/fi
 l-directe-con-la-alcaldesa-12
END:VEVENT
BEGIN:VTIMEZONE
TZID:Europe/Madrid
X-LIC-LOCATION:Europe/Madrid
BEGIN:DAYLIGHT
DTSTART;VALUE=DATE-TIME:20260329T030000
TZNAME:CEST
TZOFFSETFROM:+0100
TZOFFSETTO:+0200
END:DAYLIGHT
END:VTIMEZONE
END:VCALENDAR
