BEGIN:VCALENDAR
VERSION:2.0
PRODID:-//Plone.org//NONSGML plone.app.event//EN
X-WR-TIMEZONE:Europe/Madrid
BEGIN:VEVENT
SUMMARY:Grupo playback de personas mayores Amigos del Arte
DTSTART;TZID=Europe/Madrid;VALUE=DATE-TIME:20221102T120000
DTEND;TZID=Europe/Madrid;VALUE=DATE-TIME:20221102T130000
DTSTAMP;VALUE=DATE-TIME:20260419T221526Z
UID:bb764932c18945caafe1fac6777ab60d@www.molletvalles.cat
CREATED;VALUE=DATE-TIME:20230131T145058Z
LAST-MODIFIED;VALUE=DATE-TIME:20230131T145100Z
LOCATION:Mollet del Vallès
URL:https://www.molletvalles.cat/es/el-ayuntamiento/la-alcaldesa/agenda/gr
 upo-playback-de-personas-mayores-amigos-del-arte
END:VEVENT
BEGIN:VTIMEZONE
TZID:Europe/Madrid
X-LIC-LOCATION:Europe/Madrid
BEGIN:STANDARD
DTSTART;VALUE=DATE-TIME:20221030T020000
TZNAME:CET
TZOFFSETFROM:+0200
TZOFFSETTO:+0100
END:STANDARD
END:VTIMEZONE
END:VCALENDAR
