BEGIN:VCALENDAR
VERSION:2.0
PRODID:-//Plone.org//NONSGML plone.app.event//EN
X-WR-TIMEZONE:Europe/Madrid
BEGIN:VEVENT
SUMMARY:Inauguración de la XXXVIII Feria de Artesanos y la exposición "B
 abel"\, de Josep Nogué
DTSTART;TZID=Europe/Madrid;VALUE=DATE-TIME:20220916T190000
DTEND;TZID=Europe/Madrid;VALUE=DATE-TIME:20220916T200000
DTSTAMP;VALUE=DATE-TIME:20260421T162148Z
UID:f68c0b8c1631444393647b22311ebe22@www.molletvalles.cat
CREATED;VALUE=DATE-TIME:20230202T102628Z
LAST-MODIFIED;VALUE=DATE-TIME:20230202T102633Z
LOCATION:CC La Marineta
URL:https://www.molletvalles.cat/es/el-ayuntamiento/la-alcaldesa/agenda/in
 auguracion-de-la-xxxviii-feria-de-artesanos-y-la-exposicion-babel-de-josep
 -nogue
END:VEVENT
BEGIN:VTIMEZONE
TZID:Europe/Madrid
X-LIC-LOCATION:Europe/Madrid
BEGIN:DAYLIGHT
DTSTART;VALUE=DATE-TIME:20220327T030000
TZNAME:CEST
TZOFFSETFROM:+0100
TZOFFSETTO:+0200
END:DAYLIGHT
END:VTIMEZONE
END:VCALENDAR
