BEGIN:VCALENDAR
VERSION:2.0
PRODID:-//Plone.org//NONSGML plone.app.event//EN
X-WR-TIMEZONE:Europe/Madrid
BEGIN:VEVENT
SUMMARY:Inauguración del cambio de nombre de la Biblioteca de Can Mulà-J
 ordi Solé Tura
DTSTART;TZID=Europe/Madrid;VALUE=DATE-TIME:20220924T100000
DTEND;TZID=Europe/Madrid;VALUE=DATE-TIME:20220924T120000
DTSTAMP;VALUE=DATE-TIME:20260419T170308Z
UID:fcc7b0a50eaa47a5984482696fec10db@www.molletvalles.cat
CREATED;VALUE=DATE-TIME:20230201T135825Z
LAST-MODIFIED;VALUE=DATE-TIME:20230201T135828Z
LOCATION:Parque de Can Mulà
URL:https://www.molletvalles.cat/es/el-ayuntamiento/la-alcaldesa/agenda/in
 auguracion-del-cambio-de-nombre-de-la-biblioteca-de-can-mula-jordi-sole-tu
 ra
END:VEVENT
BEGIN:VTIMEZONE
TZID:Europe/Madrid
X-LIC-LOCATION:Europe/Madrid
BEGIN:DAYLIGHT
DTSTART;VALUE=DATE-TIME:20220327T030000
TZNAME:CEST
TZOFFSETFROM:+0100
TZOFFSETTO:+0200
END:DAYLIGHT
END:VTIMEZONE
END:VCALENDAR
