BEGIN:VCALENDAR
VERSION:2.0
PRODID:-//Plone.org//NONSGML plone.app.event//EN
X-WR-TIMEZONE:Europe/Madrid
BEGIN:VEVENT
SUMMARY:Inauguración Fira d´Artesans
DTSTART;TZID=Europe/Madrid;VALUE=DATE-TIME:20250919T190000
DTEND;TZID=Europe/Madrid;VALUE=DATE-TIME:20250919T193000
DTSTAMP;VALUE=DATE-TIME:20260421T160544Z
UID:596fc1319e65475cbdfbeb032169ae9a@www.molletvalles.cat
CREATED;VALUE=DATE-TIME:20250917T102742Z
LAST-MODIFIED;VALUE=DATE-TIME:20250917T102748Z
LOCATION:La Marineta
URL:https://www.molletvalles.cat/es/el-ayuntamiento/la-alcaldesa/agenda/in
 auguracion-fira-dartesans
END:VEVENT
BEGIN:VTIMEZONE
TZID:Europe/Madrid
X-LIC-LOCATION:Europe/Madrid
BEGIN:DAYLIGHT
DTSTART;VALUE=DATE-TIME:20250330T030000
TZNAME:CEST
TZOFFSETFROM:+0100
TZOFFSETTO:+0200
END:DAYLIGHT
END:VTIMEZONE
END:VCALENDAR
