BEGIN:VCALENDAR
VERSION:2.0
PRODID:-//Plone.org//NONSGML plone.app.event//EN
X-WR-TIMEZONE:Europe/Madrid
BEGIN:VEVENT
SUMMARY:Junta de Gobierno Local
DTSTART;TZID=Europe/Madrid;VALUE=DATE-TIME:20260427T160000
DTEND;TZID=Europe/Madrid;VALUE=DATE-TIME:20260427T163000
DTSTAMP;VALUE=DATE-TIME:20260423T172921Z
UID:91e93abb15a341628dd28ef03d0041e9@www.molletvalles.cat
CREATED;VALUE=DATE-TIME:20260423T082534Z
LAST-MODIFIED;VALUE=DATE-TIME:20260423T082548Z
LOCATION:Ayuntamiento Mollet del Vallès
URL:https://www.molletvalles.cat/es/el-ayuntamiento/la-alcaldesa/agenda/ju
 nta-de-gobierno-local-78
END:VEVENT
BEGIN:VTIMEZONE
TZID:Europe/Madrid
X-LIC-LOCATION:Europe/Madrid
BEGIN:DAYLIGHT
DTSTART;VALUE=DATE-TIME:20260329T030000
TZNAME:CEST
TZOFFSETFROM:+0100
TZOFFSETTO:+0200
END:DAYLIGHT
END:VTIMEZONE
END:VCALENDAR
