BEGIN:VCALENDAR
VERSION:2.0
PRODID:-//Plone.org//NONSGML plone.app.event//EN
X-WR-TIMEZONE:Europe/Madrid
BEGIN:VEVENT
SUMMARY:Junta Local de Seguridad
DTSTART;TZID=Europe/Madrid;VALUE=DATE-TIME:20250324T120000
DTEND;TZID=Europe/Madrid;VALUE=DATE-TIME:20250324T133000
DTSTAMP;VALUE=DATE-TIME:20260421T140222Z
UID:acc0ad71afa3472083da19e949d23524@www.molletvalles.cat
CREATED;VALUE=DATE-TIME:20250321T130523Z
LAST-MODIFIED;VALUE=DATE-TIME:20250321T130527Z
URL:https://www.molletvalles.cat/es/el-ayuntamiento/la-alcaldesa/agenda/ju
 nta-local-de-seguridad-2
END:VEVENT
BEGIN:VTIMEZONE
TZID:Europe/Madrid
X-LIC-LOCATION:Europe/Madrid
BEGIN:STANDARD
DTSTART;VALUE=DATE-TIME:20241027T020000
TZNAME:CET
TZOFFSETFROM:+0200
TZOFFSETTO:+0100
END:STANDARD
END:VTIMEZONE
END:VCALENDAR
