BEGIN:VCALENDAR
VERSION:2.0
PRODID:-//Plone.org//NONSGML plone.app.event//EN
X-WR-TIMEZONE:Europe/Madrid
BEGIN:VEVENT
SUMMARY:Las artistas atrapan nuevos espacios: actividades familiares
DTSTART;TZID=Europe/Madrid;VALUE=DATE-TIME:20240308T190000
DTEND;TZID=Europe/Madrid;VALUE=DATE-TIME:20240308T200000
DTSTAMP;VALUE=DATE-TIME:20260419T170412Z
UID:2e107ab77a1d401a939a3be6b3268ea2@www.molletvalles.cat
CREATED;VALUE=DATE-TIME:20240308T123730Z
LAST-MODIFIED;VALUE=DATE-TIME:20240308T123732Z
LOCATION:Museo Abelló
URL:https://www.molletvalles.cat/es/el-ayuntamiento/la-alcaldesa/agenda/la
 s-artistas-atrapan-nuevos-espacios-actividades-familiares
END:VEVENT
BEGIN:VTIMEZONE
TZID:Europe/Madrid
X-LIC-LOCATION:Europe/Madrid
BEGIN:STANDARD
DTSTART;VALUE=DATE-TIME:20231029T020000
TZNAME:CET
TZOFFSETFROM:+0200
TZOFFSETTO:+0100
END:STANDARD
END:VTIMEZONE
END:VCALENDAR
