BEGIN:VCALENDAR
VERSION:2.0
PRODID:-//Plone.org//NONSGML plone.app.event//EN
X-WR-TIMEZONE:Europe/Madrid
BEGIN:VEVENT
SUMMARY:Lectura del manifiesto de violencia de género
DTSTART;TZID=Europe/Madrid;VALUE=DATE-TIME:20221125T120000
DTEND;TZID=Europe/Madrid;VALUE=DATE-TIME:20221125T123000
DTSTAMP;VALUE=DATE-TIME:20260421T160501Z
UID:020505bc038943c8901d088fcc8d18da@www.molletvalles.cat
CREATED;VALUE=DATE-TIME:20230130T122444Z
LAST-MODIFIED;VALUE=DATE-TIME:20230130T122447Z
LOCATION:Plaza Mayor\, 1
URL:https://www.molletvalles.cat/es/el-ayuntamiento/la-alcaldesa/agenda/le
 ctura-del-manifiesto-de-violencia-de-genero
END:VEVENT
BEGIN:VTIMEZONE
TZID:Europe/Madrid
X-LIC-LOCATION:Europe/Madrid
BEGIN:STANDARD
DTSTART;VALUE=DATE-TIME:20221030T020000
TZNAME:CET
TZOFFSETFROM:+0200
TZOFFSETTO:+0100
END:STANDARD
END:VTIMEZONE
END:VCALENDAR
