BEGIN:VCALENDAR
VERSION:2.0
PRODID:-//Plone.org//NONSGML plone.app.event//EN
X-WR-TIMEZONE:Europe/Madrid
BEGIN:VEVENT
SUMMARY:Lectura del manifiesto del Día de los Derechos de los Niños
DTSTART;TZID=Europe/Madrid;VALUE=DATE-TIME:20221120T113000
DTEND;TZID=Europe/Madrid;VALUE=DATE-TIME:20221120T120000
DTSTAMP;VALUE=DATE-TIME:20260419T162138Z
UID:98a86ef7788d4f3aa9871b708e44de45@www.molletvalles.cat
CREATED;VALUE=DATE-TIME:20230130T180821Z
LAST-MODIFIED;VALUE=DATE-TIME:20230130T180902Z
LOCATION:Teatro de Can Gomà
URL:https://www.molletvalles.cat/es/el-ayuntamiento/la-alcaldesa/agenda/le
 ctura-del-manifiesto-del-dia-de-los-derechos-de-los-ninos
END:VEVENT
BEGIN:VTIMEZONE
TZID:Europe/Madrid
X-LIC-LOCATION:Europe/Madrid
BEGIN:STANDARD
DTSTART;VALUE=DATE-TIME:20221030T020000
TZNAME:CET
TZOFFSETFROM:+0200
TZOFFSETTO:+0100
END:STANDARD
END:VTIMEZONE
END:VCALENDAR
