BEGIN:VCALENDAR
VERSION:2.0
PRODID:-//Plone.org//NONSGML plone.app.event//EN
X-WR-TIMEZONE:Europe/Madrid
BEGIN:VEVENT
SUMMARY:Lectura del Manifiesto del Día Internacional contra la LGTBIfobia
DTSTART;TZID=Europe/Madrid;VALUE=DATE-TIME:20240517T120000
DTEND;TZID=Europe/Madrid;VALUE=DATE-TIME:20240517T130000
DTSTAMP;VALUE=DATE-TIME:20260419T162313Z
UID:df01a1574be24878a0a55ea44027496d@www.molletvalles.cat
CREATED;VALUE=DATE-TIME:20240527T123401Z
LAST-MODIFIED;VALUE=DATE-TIME:20240527T123405Z
LOCATION:Plaza Mayor\, 1
URL:https://www.molletvalles.cat/es/el-ayuntamiento/la-alcaldesa/agenda/le
 ctura-del-manifiesto-del-dia-internacional-contra-la-lgtbifobia
END:VEVENT
BEGIN:VTIMEZONE
TZID:Europe/Madrid
X-LIC-LOCATION:Europe/Madrid
BEGIN:DAYLIGHT
DTSTART;VALUE=DATE-TIME:20240331T030000
TZNAME:CEST
TZOFFSETFROM:+0100
TZOFFSETTO:+0200
END:DAYLIGHT
END:VTIMEZONE
END:VCALENDAR
