BEGIN:VCALENDAR
VERSION:2.0
PRODID:-//Plone.org//NONSGML plone.app.event//EN
X-WR-TIMEZONE:Europe/Madrid
BEGIN:VEVENT
SUMMARY:Lectura del Manifiesto del Día Mundial de la Fibromialgia
DTSTART;TZID=Europe/Madrid;VALUE=DATE-TIME:20230512T120000
DTEND;TZID=Europe/Madrid;VALUE=DATE-TIME:20230512T130000
DTSTAMP;VALUE=DATE-TIME:20260421T162049Z
UID:eee91d89454e43eebfa9691be89855ae@www.molletvalles.cat
CREATED;VALUE=DATE-TIME:20230510T102259Z
LAST-MODIFIED;VALUE=DATE-TIME:20230510T102302Z
LOCATION:Plaza Mayor
URL:https://www.molletvalles.cat/es/el-ayuntamiento/la-alcaldesa/agenda/le
 ctura-del-manifiesto-del-dia-mundial-de-la-fibromialgia
END:VEVENT
BEGIN:VTIMEZONE
TZID:Europe/Madrid
X-LIC-LOCATION:Europe/Madrid
BEGIN:DAYLIGHT
DTSTART;VALUE=DATE-TIME:20230326T030000
TZNAME:CEST
TZOFFSETFROM:+0100
TZOFFSETTO:+0200
END:DAYLIGHT
END:VTIMEZONE
END:VCALENDAR
