BEGIN:VCALENDAR
VERSION:2.0
PRODID:-//Plone.org//NONSGML plone.app.event//EN
X-WR-TIMEZONE:Europe/Madrid
BEGIN:VEVENT
SUMMARY:Pasacalles Día Internacional de los Derechos de los Niños
DTSTART;TZID=Europe/Madrid;VALUE=DATE-TIME:20221120T103000
DTEND;TZID=Europe/Madrid;VALUE=DATE-TIME:20221120T113000
DTSTAMP;VALUE=DATE-TIME:20260425T121806Z
UID:2ae9d9de1216402da77a1309ce9806f9@www.molletvalles.cat
CREATED;VALUE=DATE-TIME:20230130T180559Z
LAST-MODIFIED;VALUE=DATE-TIME:20230130T180602Z
LOCATION:Salida Pl. Prat de la Riba - Llegada Teatro Can Gomà
URL:https://www.molletvalles.cat/es/el-ayuntamiento/la-alcaldesa/agenda/pa
 sacalles-dia-internacional-de-los-derechos-de-los-ninos
END:VEVENT
BEGIN:VTIMEZONE
TZID:Europe/Madrid
X-LIC-LOCATION:Europe/Madrid
BEGIN:STANDARD
DTSTART;VALUE=DATE-TIME:20221030T020000
TZNAME:CET
TZOFFSETFROM:+0200
TZOFFSETTO:+0100
END:STANDARD
END:VTIMEZONE
END:VCALENDAR
