BEGIN:VCALENDAR
VERSION:2.0
PRODID:-//Plone.org//NONSGML plone.app.event//EN
X-WR-TIMEZONE:Europe/Madrid
BEGIN:VEVENT
SUMMARY:Paseo de Gigantes\, Aleación Gigantes de Mollet y Aleación Gigan
 tes de Manlleu
DTSTART;TZID=Europe/Madrid;VALUE=DATE-TIME:20240818T190000
DTEND;TZID=Europe/Madrid;VALUE=DATE-TIME:20240818T200000
DTSTAMP;VALUE=DATE-TIME:20260419T162513Z
UID:82c6ad5a37b44b1d931c432fa274a08c@www.molletvalles.cat
CREATED;VALUE=DATE-TIME:20240816T110416Z
LAST-MODIFIED;VALUE=DATE-TIME:20240816T110438Z
LOCATION:Inicio Parque de Les Pruneres\, Calle Anselm Clavé\, Calle Beren
 guer III\, av. Libertad\, Plaza Mayor (lateral del Mercado)\, Av. Jaume I\
 , Rambla Fiveller\, Calle Barcelona y Plaza Prat de la Riba.
URL:https://www.molletvalles.cat/es/el-ayuntamiento/la-alcaldesa/agenda/pa
 seo-de-gigantes-aleacion-gigantes-de-mollet-y-aleacion-gigantes-de-manlleu
END:VEVENT
BEGIN:VTIMEZONE
TZID:Europe/Madrid
X-LIC-LOCATION:Europe/Madrid
BEGIN:DAYLIGHT
DTSTART;VALUE=DATE-TIME:20240331T030000
TZNAME:CEST
TZOFFSETFROM:+0100
TZOFFSETTO:+0200
END:DAYLIGHT
END:VTIMEZONE
END:VCALENDAR
