BEGIN:VCALENDAR
VERSION:2.0
PRODID:-//Plone.org//NONSGML plone.app.event//EN
X-WR-TIMEZONE:Europe/Madrid
BEGIN:VEVENT
SUMMARY:Pleno extraordinario mesas electorales para las elecciones al Parl
 amento Europeo
DTSTART;TZID=Europe/Madrid;VALUE=DATE-TIME:20240515T093000
DTEND;TZID=Europe/Madrid;VALUE=DATE-TIME:20240515T100000
DTSTAMP;VALUE=DATE-TIME:20260419T162338Z
UID:e0f2d6fbc1ff4f26808ffd563d8d5d89@www.molletvalles.cat
CREATED;VALUE=DATE-TIME:20240515T111737Z
LAST-MODIFIED;VALUE=DATE-TIME:20240515T111739Z
LOCATION:Ayuntamiento de Mollet del Vallès
URL:https://www.molletvalles.cat/es/el-ayuntamiento/la-alcaldesa/agenda/pl
 eno-extraordinario-mesas-electorales-para-las-elecciones-al-parlamento-eur
 opeo
END:VEVENT
BEGIN:VTIMEZONE
TZID:Europe/Madrid
X-LIC-LOCATION:Europe/Madrid
BEGIN:DAYLIGHT
DTSTART;VALUE=DATE-TIME:20240331T030000
TZNAME:CEST
TZOFFSETFROM:+0100
TZOFFSETTO:+0200
END:DAYLIGHT
END:VTIMEZONE
END:VCALENDAR
