BEGIN:VCALENDAR
VERSION:2.0
PRODID:-//Plone.org//NONSGML plone.app.event//EN
X-WR-TIMEZONE:Europe/Madrid
BEGIN:VEVENT
SUMMARY:Pleno extraordinario
DTSTART;TZID=Europe/Madrid;VALUE=DATE-TIME:20221117T180000
DTEND;TZID=Europe/Madrid;VALUE=DATE-TIME:20221117T200000
DTSTAMP;VALUE=DATE-TIME:20260421T160008Z
UID:b399bbad7ee5448a87379235f79673d5@www.molletvalles.cat
CREATED;VALUE=DATE-TIME:20230130T182539Z
LAST-MODIFIED;VALUE=DATE-TIME:20230130T182618Z
LOCATION:Ayuntamiento de Mollet del Vallès
URL:https://www.molletvalles.cat/es/el-ayuntamiento/la-alcaldesa/agenda/pl
 eno-extraordinario
END:VEVENT
BEGIN:VTIMEZONE
TZID:Europe/Madrid
X-LIC-LOCATION:Europe/Madrid
BEGIN:STANDARD
DTSTART;VALUE=DATE-TIME:20221030T020000
TZNAME:CET
TZOFFSETFROM:+0200
TZOFFSETTO:+0100
END:STANDARD
END:VTIMEZONE
END:VCALENDAR
