BEGIN:VCALENDAR
VERSION:2.0
PRODID:-//Plone.org//NONSGML plone.app.event//EN
X-WR-TIMEZONE:Europe/Madrid
BEGIN:VEVENT
SUMMARY:Pleno ordinario
DTSTART;TZID=Europe/Madrid;VALUE=DATE-TIME:20260427T180000
DTEND;TZID=Europe/Madrid;VALUE=DATE-TIME:20260427T220000
DTSTAMP;VALUE=DATE-TIME:20260423T173107Z
UID:529b7a5cd7394ec9bdee71740f6becc6@www.molletvalles.cat
CREATED;VALUE=DATE-TIME:20260423T082752Z
LAST-MODIFIED;VALUE=DATE-TIME:20260423T082758Z
LOCATION:Ayuntamiento Mollet del Vallès
URL:https://www.molletvalles.cat/es/el-ayuntamiento/la-alcaldesa/agenda/pl
 eno-ordinario-25
END:VEVENT
BEGIN:VTIMEZONE
TZID:Europe/Madrid
X-LIC-LOCATION:Europe/Madrid
BEGIN:DAYLIGHT
DTSTART;VALUE=DATE-TIME:20260329T030000
TZNAME:CEST
TZOFFSETFROM:+0100
TZOFFSETTO:+0200
END:DAYLIGHT
END:VTIMEZONE
END:VCALENDAR
