BEGIN:VCALENDAR
VERSION:2.0
PRODID:-//Plone.org//NONSGML plone.app.event//EN
X-WR-TIMEZONE:Europe/Madrid
BEGIN:VEVENT
SUMMARY:Presentación de la Comisión de trabajo de la programación del 1
 5 aniversario de la defunción de Jordi Solé Tura
DTSTART;TZID=Europe/Madrid;VALUE=DATE-TIME:20230328T180000
DTEND;TZID=Europe/Madrid;VALUE=DATE-TIME:20230328T190000
DTSTAMP;VALUE=DATE-TIME:20260419T221527Z
UID:e3b3a9ba88f6454f9472b8ad3314394b@www.molletvalles.cat
CREATED;VALUE=DATE-TIME:20230412T101503Z
LAST-MODIFIED;VALUE=DATE-TIME:20230412T101506Z
LOCATION:Ajuntament de Mollet del Vallès
URL:https://www.molletvalles.cat/es/el-ayuntamiento/la-alcaldesa/agenda/pr
 esentacion-de-la-comision-de-trabajo-de-la-programacion-del-15-aniversario
 -de-la-defuncion-de-jordi-sole-tura
END:VEVENT
BEGIN:VTIMEZONE
TZID:Europe/Madrid
X-LIC-LOCATION:Europe/Madrid
BEGIN:DAYLIGHT
DTSTART;VALUE=DATE-TIME:20230326T030000
TZNAME:CEST
TZOFFSETFROM:+0100
TZOFFSETTO:+0200
END:DAYLIGHT
END:VTIMEZONE
END:VCALENDAR
