BEGIN:VCALENDAR
VERSION:2.0
PRODID:-//Plone.org//NONSGML plone.app.event//EN
X-WR-TIMEZONE:Europe/Madrid
BEGIN:VEVENT
SUMMARY:Presentación UD Lourdes
DTSTART;TZID=Europe/Madrid;VALUE=DATE-TIME:20221216T190000
DTEND;TZID=Europe/Madrid;VALUE=DATE-TIME:20221216T203000
DTSTAMP;VALUE=DATE-TIME:20260421T140132Z
UID:2cc2fa2af7304a188317234a7e5dccff@www.molletvalles.cat
CREATED;VALUE=DATE-TIME:20230130T103110Z
LAST-MODIFIED;VALUE=DATE-TIME:20230130T103113Z
LOCATION:Campo Municipal Juan Bocanegra
URL:https://www.molletvalles.cat/es/el-ayuntamiento/la-alcaldesa/agenda/pr
 esentacion-ud-lourdes
END:VEVENT
BEGIN:VTIMEZONE
TZID:Europe/Madrid
X-LIC-LOCATION:Europe/Madrid
BEGIN:STANDARD
DTSTART;VALUE=DATE-TIME:20221030T020000
TZNAME:CET
TZOFFSETFROM:+0200
TZOFFSETTO:+0100
END:STANDARD
END:VTIMEZONE
END:VCALENDAR
