BEGIN:VCALENDAR
VERSION:2.0
PRODID:-//Plone.org//NONSGML plone.app.event//EN
X-WR-TIMEZONE:Europe/Madrid
BEGIN:VEVENT
SUMMARY:Recibimiento del Hble. SR. Francesc Xavier Vila\, consejero de Pol
 ítica Lingüística de la Generalidad de Cataluña
DTSTART;TZID=Europe/Madrid;VALUE=DATE-TIME:20251002T184000
DTEND;TZID=Europe/Madrid;VALUE=DATE-TIME:20251002T201000
DTSTAMP;VALUE=DATE-TIME:20260419T162303Z
UID:39c36106a02049b68a4aa4f6bce99de3@www.molletvalles.cat
CREATED;VALUE=DATE-TIME:20251003T073628Z
LAST-MODIFIED;VALUE=DATE-TIME:20251003T073644Z
LOCATION:Ayuntamiento Mollet del Vallès
URL:https://www.molletvalles.cat/es/el-ayuntamiento/la-alcaldesa/agenda/re
 cibimiento-del-hble-sr-francesc-xavier-vila-consejero-de-politica-linguist
 ica-de-la-generalidad-de-cataluna
END:VEVENT
BEGIN:VTIMEZONE
TZID:Europe/Madrid
X-LIC-LOCATION:Europe/Madrid
BEGIN:DAYLIGHT
DTSTART;VALUE=DATE-TIME:20250330T030000
TZNAME:CEST
TZOFFSETFROM:+0100
TZOFFSETTO:+0200
END:DAYLIGHT
END:VTIMEZONE
END:VCALENDAR
