BEGIN:VCALENDAR
VERSION:2.0
PRODID:-//Plone.org//NONSGML plone.app.event//EN
X-WR-TIMEZONE:Europe/Madrid
BEGIN:VEVENT
SUMMARY:Retransmisión final Champions femenina FC Barcelona
DTSTART;TZID=Europe/Madrid;VALUE=DATE-TIME:20230603T160000
DTEND;TZID=Europe/Madrid;VALUE=DATE-TIME:20230603T170000
DTSTAMP;VALUE=DATE-TIME:20260419T162220Z
UID:797b191174f64c7e9d2bc973475737e4@www.molletvalles.cat
CREATED;VALUE=DATE-TIME:20230602T115530Z
LAST-MODIFIED;VALUE=DATE-TIME:20230602T115533Z
LOCATION:Pista exterior Pabellón Riera Seca
URL:https://www.molletvalles.cat/es/el-ayuntamiento/la-alcaldesa/agenda/re
 transmision-final-champions-femenina-fc-barcelona
END:VEVENT
BEGIN:VTIMEZONE
TZID:Europe/Madrid
X-LIC-LOCATION:Europe/Madrid
BEGIN:DAYLIGHT
DTSTART;VALUE=DATE-TIME:20230326T030000
TZNAME:CEST
TZOFFSETFROM:+0100
TZOFFSETTO:+0200
END:DAYLIGHT
END:VTIMEZONE
END:VCALENDAR
