BEGIN:VCALENDAR
VERSION:2.0
PRODID:-//Plone.org//NONSGML plone.app.event//EN
X-WR-TIMEZONE:Europe/Madrid
BEGIN:VEVENT
SUMMARY:Reunión con ciudadanía con cita previa
DTSTART;TZID=Europe/Madrid;VALUE=DATE-TIME:20230116T130000
DTEND;TZID=Europe/Madrid;VALUE=DATE-TIME:20230116T140000
DTSTAMP;VALUE=DATE-TIME:20260421T160502Z
UID:1fae6e85bbc14bc8be39dd43cf908a1b@www.molletvalles.cat
CREATED;VALUE=DATE-TIME:20230125T123649Z
LAST-MODIFIED;VALUE=DATE-TIME:20230125T123654Z
LOCATION:Av. Calderón
URL:https://www.molletvalles.cat/es/el-ayuntamiento/la-alcaldesa/agenda/re
 union-con-ciudadania-con-cita-previa-1
END:VEVENT
BEGIN:VTIMEZONE
TZID:Europe/Madrid
X-LIC-LOCATION:Europe/Madrid
BEGIN:STANDARD
DTSTART;VALUE=DATE-TIME:20221030T020000
TZNAME:CET
TZOFFSETFROM:+0200
TZOFFSETTO:+0100
END:STANDARD
END:VTIMEZONE
END:VCALENDAR
