BEGIN:VCALENDAR
VERSION:2.0
PRODID:-//Plone.org//NONSGML plone.app.event//EN
X-WR-TIMEZONE:Europe/Madrid
BEGIN:VEVENT
SUMMARY:Reunión con ciudadanía con cita previa
DTSTART;TZID=Europe/Madrid;VALUE=DATE-TIME:20250616T183000
DTEND;TZID=Europe/Madrid;VALUE=DATE-TIME:20250616T193000
DTSTAMP;VALUE=DATE-TIME:20260419T162013Z
UID:2487080cc9e645b6bd13f29cb6f78517@www.molletvalles.cat
CREATED;VALUE=DATE-TIME:20250616T110413Z
LAST-MODIFIED;VALUE=DATE-TIME:20250616T110418Z
LOCATION:Ayuntamiento Mollet del Vallès
URL:https://www.molletvalles.cat/es/el-ayuntamiento/la-alcaldesa/agenda/re
 union-con-ciudadania-con-cita-previa-1750071853.6644752
END:VEVENT
BEGIN:VTIMEZONE
TZID:Europe/Madrid
X-LIC-LOCATION:Europe/Madrid
BEGIN:DAYLIGHT
DTSTART;VALUE=DATE-TIME:20250330T030000
TZNAME:CEST
TZOFFSETFROM:+0100
TZOFFSETTO:+0200
END:DAYLIGHT
END:VTIMEZONE
END:VCALENDAR
