BEGIN:VCALENDAR
VERSION:2.0
PRODID:-//Plone.org//NONSGML plone.app.event//EN
X-WR-TIMEZONE:Europe/Madrid
BEGIN:VEVENT
SUMMARY:Reunión con ciudadanía con cita previa
DTSTART;TZID=Europe/Madrid;VALUE=DATE-TIME:20250703T160000
DTEND;TZID=Europe/Madrid;VALUE=DATE-TIME:20250703T170000
DTSTAMP;VALUE=DATE-TIME:20260419T220233Z
UID:cbb9f4dcc9364bc1a843445875d07b91@www.molletvalles.cat
CREATED;VALUE=DATE-TIME:20250704T055843Z
LAST-MODIFIED;VALUE=DATE-TIME:20250704T055850Z
LOCATION:Ayuntamiento Mollet del Vallès
URL:https://www.molletvalles.cat/es/el-ayuntamiento/la-alcaldesa/agenda/re
 union-con-ciudadania-con-cita-previa-1751608723.5088146
END:VEVENT
BEGIN:VTIMEZONE
TZID:Europe/Madrid
X-LIC-LOCATION:Europe/Madrid
BEGIN:DAYLIGHT
DTSTART;VALUE=DATE-TIME:20250330T030000
TZNAME:CEST
TZOFFSETFROM:+0100
TZOFFSETTO:+0200
END:DAYLIGHT
END:VTIMEZONE
END:VCALENDAR
