BEGIN:VCALENDAR
VERSION:2.0
PRODID:-//Plone.org//NONSGML plone.app.event//EN
X-WR-TIMEZONE:Europe/Madrid
BEGIN:VEVENT
SUMMARY:Reunión con ciudadanía con cita previa
DTSTART;TZID=Europe/Madrid;VALUE=DATE-TIME:20251219T133000
DTEND;TZID=Europe/Madrid;VALUE=DATE-TIME:20251219T140000
DTSTAMP;VALUE=DATE-TIME:20260425T122213Z
UID:acb02463505d4e9191d7c8d95b526491@www.molletvalles.cat
CREATED;VALUE=DATE-TIME:20251217T090959Z
LAST-MODIFIED;VALUE=DATE-TIME:20251217T091004Z
URL:https://www.molletvalles.cat/es/el-ayuntamiento/la-alcaldesa/agenda/re
 union-con-ciudadania-con-cita-previa-1765962599.130449
END:VEVENT
BEGIN:VTIMEZONE
TZID:Europe/Madrid
X-LIC-LOCATION:Europe/Madrid
BEGIN:STANDARD
DTSTART;VALUE=DATE-TIME:20251026T020000
TZNAME:CET
TZOFFSETFROM:+0200
TZOFFSETTO:+0100
END:STANDARD
END:VTIMEZONE
END:VCALENDAR
