BEGIN:VCALENDAR
VERSION:2.0
PRODID:-//Plone.org//NONSGML plone.app.event//EN
X-WR-TIMEZONE:Europe/Madrid
BEGIN:VEVENT
SUMMARY:Reunión con ciudadanía con cita previa
DTSTART;TZID=Europe/Madrid;VALUE=DATE-TIME:20251223T120000
DTEND;TZID=Europe/Madrid;VALUE=DATE-TIME:20251223T123000
DTSTAMP;VALUE=DATE-TIME:20260419T215923Z
UID:6a7fb5798c0e470e892edc18c9249d11@www.molletvalles.cat
CREATED;VALUE=DATE-TIME:20251223T081428Z
LAST-MODIFIED;VALUE=DATE-TIME:20251223T081434Z
URL:https://www.molletvalles.cat/es/el-ayuntamiento/la-alcaldesa/agenda/re
 union-con-ciudadania-con-cita-previa-1766477668.508499
END:VEVENT
BEGIN:VTIMEZONE
TZID:Europe/Madrid
X-LIC-LOCATION:Europe/Madrid
BEGIN:STANDARD
DTSTART;VALUE=DATE-TIME:20251026T020000
TZNAME:CET
TZOFFSETFROM:+0200
TZOFFSETTO:+0100
END:STANDARD
END:VTIMEZONE
END:VCALENDAR
