BEGIN:VCALENDAR
VERSION:2.0
PRODID:-//Plone.org//NONSGML plone.app.event//EN
X-WR-TIMEZONE:Europe/Madrid
BEGIN:VEVENT
SUMMARY:Reunión con ciudadanía con cita previa
DTSTART;TZID=Europe/Madrid;VALUE=DATE-TIME:20220918T180000
DTEND;TZID=Europe/Madrid;VALUE=DATE-TIME:20220918T190000
DTSTAMP;VALUE=DATE-TIME:20260421T160457Z
UID:367e39ddaa2d4dd9a4ca59b0f3eac889@www.molletvalles.cat
CREATED;VALUE=DATE-TIME:20230202T110117Z
LAST-MODIFIED;VALUE=DATE-TIME:20230202T110120Z
LOCATION:Can Borrell
URL:https://www.molletvalles.cat/es/el-ayuntamiento/la-alcaldesa/agenda/re
 union-con-ciudadania-con-cita-previa-20
END:VEVENT
BEGIN:VTIMEZONE
TZID:Europe/Madrid
X-LIC-LOCATION:Europe/Madrid
BEGIN:DAYLIGHT
DTSTART;VALUE=DATE-TIME:20220327T030000
TZNAME:CEST
TZOFFSETFROM:+0100
TZOFFSETTO:+0200
END:DAYLIGHT
END:VTIMEZONE
END:VCALENDAR
