BEGIN:VCALENDAR
VERSION:2.0
PRODID:-//Plone.org//NONSGML plone.app.event//EN
X-WR-TIMEZONE:Europe/Madrid
BEGIN:VEVENT
SUMMARY:Reunión con ciudadanía con cita previa
DTSTART;TZID=Europe/Madrid;VALUE=DATE-TIME:20230220T100000
DTEND;TZID=Europe/Madrid;VALUE=DATE-TIME:20230220T110000
DTSTAMP;VALUE=DATE-TIME:20260425T121841Z
UID:a1201b210855401390a8b8c29deb6021@www.molletvalles.cat
CREATED;VALUE=DATE-TIME:20230223T101756Z
LAST-MODIFIED;VALUE=DATE-TIME:20230223T101759Z
LOCATION:Ayuntamiento de Mollet del Vallès
URL:https://www.molletvalles.cat/es/el-ayuntamiento/la-alcaldesa/agenda/re
 union-con-ciudadania-con-cita-previa-33
END:VEVENT
BEGIN:VTIMEZONE
TZID:Europe/Madrid
X-LIC-LOCATION:Europe/Madrid
BEGIN:STANDARD
DTSTART;VALUE=DATE-TIME:20221030T020000
TZNAME:CET
TZOFFSETFROM:+0200
TZOFFSETTO:+0100
END:STANDARD
END:VTIMEZONE
END:VCALENDAR
