BEGIN:VCALENDAR
VERSION:2.0
PRODID:-//Plone.org//NONSGML plone.app.event//EN
X-WR-TIMEZONE:Europe/Madrid
BEGIN:VEVENT
SUMMARY:Reunión con ciudadanía con cita previa
DTSTART;TZID=Europe/Madrid;VALUE=DATE-TIME:20221121T160000
DTEND;TZID=Europe/Madrid;VALUE=DATE-TIME:20221121T170000
DTSTAMP;VALUE=DATE-TIME:20260421T160450Z
UID:72ca917ee7cb4e139124eda6c85045d3@www.molletvalles.cat
CREATED;VALUE=DATE-TIME:20230130T175857Z
LAST-MODIFIED;VALUE=DATE-TIME:20230130T175859Z
LOCATION:Barrio de Riera Seca
URL:https://www.molletvalles.cat/es/el-ayuntamiento/la-alcaldesa/agenda/re
 union-con-ciudadania-con-cita-previa-5
END:VEVENT
BEGIN:VTIMEZONE
TZID:Europe/Madrid
X-LIC-LOCATION:Europe/Madrid
BEGIN:STANDARD
DTSTART;VALUE=DATE-TIME:20221030T020000
TZNAME:CET
TZOFFSETFROM:+0200
TZOFFSETTO:+0100
END:STANDARD
END:VTIMEZONE
END:VCALENDAR
