BEGIN:VCALENDAR
VERSION:2.0
PRODID:-//Plone.org//NONSGML plone.app.event//EN
X-WR-TIMEZONE:Europe/Madrid
BEGIN:VEVENT
SUMMARY:Reunión con ciudadanía con cita previa
DTSTART;TZID=Europe/Madrid;VALUE=DATE-TIME:20221102T093000
DTEND;TZID=Europe/Madrid;VALUE=DATE-TIME:20221102T103000
DTSTAMP;VALUE=DATE-TIME:20260425T121841Z
UID:0a9497f3f3aa4951af4de36eb9abd3da@www.molletvalles.cat
CREATED;VALUE=DATE-TIME:20230131T144656Z
LAST-MODIFIED;VALUE=DATE-TIME:20230131T144700Z
URL:https://www.molletvalles.cat/es/el-ayuntamiento/la-alcaldesa/agenda/re
 union-con-ciudadania-con-cita-previa-8
END:VEVENT
BEGIN:VTIMEZONE
TZID:Europe/Madrid
X-LIC-LOCATION:Europe/Madrid
BEGIN:STANDARD
DTSTART;VALUE=DATE-TIME:20221030T020000
TZNAME:CET
TZOFFSETFROM:+0200
TZOFFSETTO:+0100
END:STANDARD
END:VTIMEZONE
END:VCALENDAR
